BEGIN:VCALENDAR
VERSION:2.0
METHOD:REQUEST
PRODID:-//ddaysoftware//NONSGML DDay.iCal 1.0//EN
BEGIN:VTIMEZONE
TZID:Alaskan Standard Time
BEGIN:STANDARD
DTSTART:20071102T020000
RRULE:FREQ=YEARLY;BYDAY=1SU;BYHOUR=2;BYMINUTE=0;BYMONTH=11
TZNAME:Alaskan Standard Time
TZOFFSETFROM:-0800
TZOFFSETTO:-0900
END:STANDARD
BEGIN:DAYLIGHT
DTSTART:20070301T020000
RRULE:FREQ=YEARLY;BYDAY=2SU;BYHOUR=2;BYMINUTE=0;BYMONTH=3
TZNAME:Alaskan Daylight Time
TZOFFSETFROM:-0900
TZOFFSETTO:-0800
END:DAYLIGHT
END:VTIMEZONE
BEGIN:VEVENT
DESCRIPTION:By invitation only-Assisting in formation of professional pract
 ices\, policies\, and criteria regarding the evaluation\, appraisal\, sele
 ction\, procurement\, storage\, distribution\, use\, safety procedures\, a
 nd all other matters relating to drugs in the hospital\, including antibio
 tic usage\, in order that the quality of medical care provided in the hosp
 ital may be improved.\n\n
DTEND;TZID=Alaskan Standard Time:20680807T134500
DTSTAMP:20260422T225226Z
DTSTART;TZID=Alaskan Standard Time:20680807T124500
LAST-MODIFIED:20260422T225226Z
LOCATION:Montano Rm
RECURRENCE-ID;TZID=Alaskan Standard Time:20680807T124500
SEQUENCE:0
SUMMARY:Pharmacy and Therapeutics Committee
UID:389fc6ec-c38a-451c-b291-66655a1eb1f2
X-ALT-DESC;FMTTYPE=text/html:By invitation only-Assisting in formation of p
 rofessional practices\, policies\, and criteria regarding the evaluation\,
  appraisal\, selection\, procurement\, storage\, distribution\, use\, safe
 ty procedures\, and all other matters relating to drugs in the hospital\, 
 including antibiotic usage\, in order that the quality of medical care pro
 vided in the hospital may be improved.\n\n
END:VEVENT
END:VCALENDAR
